BEGIN:VCALENDAR
VERSION:2.0
PRODID:-//ChamberMaster//Event Calendar 2.0//EN
METHOD:PUBLISH
X-PUBLISHED-TTL:P3D
REFRESH-INTERVAL:P3D
CALSCALE:GREGORIAN
BEGIN:VEVENT
DTSTART:20171110T230000Z
DTEND:20171111T020000Z
X-MICROSOFT-CDO-ALLDAYEVENT:FALSE
SUMMARY:Media Launch
DESCRIPTION:Join us as we launch our 2018 South Carolina Carnival.
X-ALT-DESC;FMTTYPE=text/html:Join us as we launch our 2018 South Carolina Carnival.
LOCATION:The Cigar Shop\, 1639 Main St\,between Taylor and Blanding
UID:e.2226.7573
SEQUENCE:3
DTSTAMP:20260426T024754Z
URL:http://columbiasc.chambermaster.com/events/details/media-launch-7573
END:VEVENT

END:VCALENDAR
