BEGIN:VCALENDAR
VERSION:2.0
PRODID:-//ChamberMaster//Event Calendar 2.0//EN
METHOD:PUBLISH
X-PUBLISHED-TTL:P3D
REFRESH-INTERVAL:P3D
CALSCALE:GREGORIAN
BEGIN:VEVENT
DTSTART:20180223T140000Z
DTEND:20180223T190000Z
X-MICROSOFT-CDO-ALLDAYEVENT:FALSE
SUMMARY:IT-oLogy IT Career Development Accelerator Program
DESCRIPTION:Build a High-Performing\, Results-Driven IT Team!\n\nIT-oLogy now offers IT career development workshops and certification trainings - all designed to help you recruit\, renew and retain top IT talent!\n\nTopics include IT soft skills\, CompTIA\, ITIL\n\nJoin us on Friday\, February 23 for a free preview of these programs and how they will help students\, you or your team of IT professionals grow their careers!\n\nWHO: Hiring managers\, CEO's\, CIO's\, recruiters\n\nWHEN: Friday\, February 23\n\nWHERE: IT-oLogy\, 1301 Gervais Street Suite 200\, Columbia\, SC\n\nBreakfast and lunch will be provided.\n\nTO REGISTER: www.it-ology.org/star
X-ALT-DESC;FMTTYPE=text/html:<p><span style="font-size:14px\;"><span style="font-family:verdana\;"><span style="color:#707c7c\;"><strong>Build a High-Performing\, Results-Driven IT Team!</strong></span></span></span></p>\n\n<p><span style="font-size:14px\;"><span style="font-family:verdana\;"><span style="color:#707c7c\;">IT-oLogy now offers IT career development workshops and certification trainings - all designed to help you recruit\, renew and retain top IT talent!<br />\nTopics include IT soft skills\, CompTIA\, ITIL<br />\nJoin us on Friday\, February 23 for a free preview of these programs and how they will help students\, you or your team of IT professionals grow their careers!<br />\nWHO: Hiring managers\, CEO&#39\;s\, CIO&#39\;s\, recruiters<br />\nWHEN: Friday\, February 23<br />\nWHERE: IT-oLogy\, 1301 Gervais Street Suite 200\, Columbia\, SC<br />\nBreakfast and lunch will be provided.<br />\nTO REGISTER:</span><a href="http://www.it-ology.org/star"><span style="color:#707c7c\;"> www.it-ology.org/star</span></a></span></span></p>\n
LOCATION:IT-oLogy 1301 Gervais Street Suite 200 Columbia\, SC
UID:e.2226.8184
SEQUENCE:3
DTSTAMP:20260421T170626Z
URL:http://columbiasc.chambermaster.com/events/details/it-ology-it-career-development-accelerator-program-8184
END:VEVENT

END:VCALENDAR
